Workbook

Sheet Lisez-moi
A1: Atelier Chain Ladder · Prime Pure
A2: Données fictives de la Mutuelle Alcyon : branche Entreprises, cause « vol », sinistres survenus de 2016 à 2025, règlements jusqu'au 31 décembre 2025.
A4: Comment lire ce classeur
A5: Sinistres et Règlements : l'extraction, telle qu'elle est publiée dans les deux fichiers CSV. Les colonnes grisées de Règlements sont calculées.
A6: Triangle : les règlements incrémentaux puis cumulés, par année de survenance (lignes) et de développement (colonnes), calculés par SOMME.SI.ENS depuis Règlements.
A7: Chain Ladder : les facteurs de développement pondérés, la charge ultime et la provision de chaque année. Les cases jaunes sont estimées.
A8: Contrôles : les vérifications à faire avant de croire un résultat. Chacune doit afficher OK.
A10: Conventions
A11: Année de développement = année du règlement − année de survenance + 1. Les recours (montants négatifs) sont gardés : ils réduisent le coût du sinistre.
A12: Tout est en formules : changez un montant dans Règlements, tout se met à jour.
A14: L'exercice guidé qui accompagne ce classeur est sur www.primepure.fr, page « Atelier Chain Ladder ». Société et données entièrement fictives.

Sheet Sinistres
A1: id_sinistre | B1: source | C1: classe_risque | D1: somme_assuree | E1: date_survenance | F1: date_declaration | G1: statut | H1: date_cloture
A2: M1-00011 | B2: M1 | C2: 1 | D2: 450000 | E2: 42607 | F2: 42611 | G2: clos | H2: 42668
A3: M1-00017 | B3: M1 | C3: 1 | D3: 900000 | E3: 42439 | F3: 42456 | G3: clos | H3: 42526
A4: M1-00018 | B4: M1 | C4: 2 | D4: 4500000 | E4: 42549 | F4: 42560 | G4: clos | H4: 42573
A5: M1-00024 | B5: M1 | C5: 1 | D5: 600000 | E5: 42429 | F5: 42436 | G5: clos | H5: 43110
A6: M1-00034 | B6: M1 | C6: 1 | D6: 900000 | E6: 42649 | F6: 42681 | G6: clos | H6: 42699
A7: M1-00036 | B7: M1 | C7: 1 | D7: 300000 | E7: 42725 | F7: 42743 | G7: clos | H7: 42803
A8: M1-00042 | B8: M1 | C8: 1 | D8: 450000 | E8: 42487 | F8: 42512 | G8: clos | H8: 43183
A9: M1-00063 | B9: M1 | C9: 1 | D9: 600000 | E9: 42697 | F9: 42726 | G9: clos | H9: 42774
A10: M1-00079 | B10: M1 | C10: 1 | D10: 900000 | E10: 42482 | F10: 42498 | G10: clos | H10: 43320
A11: M1-00104 | B11: M1 | C11: 1 | D11: 900000 | E11: 42542 | F11: 42575 | G11: clos | H11: 43017
A12: M1-00114 | B12: M1 | C12: 1 | D12: 300000 | E12: 42523 | F12: 42531 | G12: clos | H12: 42628
A13: M1-00137 | B13: M1 | C13: 1 | D13: 450000 | E13: 42489 | F13: 42519 | G13: clos | H13: 42658
... A225: M1-01738 | B225: M1 | C225: 1 | D225: 300000 | E225: 44020 | F225: 44023 | G225: clos | H225: 45054
A226: M1-01740 | B226: M1 | C226: 1 | D226: 450000 | E226: 43847 | F226: 43909 | G226: ouvert
A227: M1-01741 | B227: M1 | C227: 2 | D227: 4500000 | E227: 44139 | F227: 44179 | G227: clos | H227: 44253
A228: M1-01742 | B228: M1 | C228: 1 | D228: 1200000 | E228: 44004 | F228: 44008 | G228: clos | H228: 44450
A229: M1-01744 | B229: M1 | C229: 1 | D229: 450000 | E229: 44127 | F229: 44127 | G229: clos | H229: 44173
A230: M1-01752 | B230: M1 | C230: 2 | D230: 4500000 | E230: 44022 | F230: 44022 | G230: clos | H230: 44064
A231: M1-01759 | B231: M1 | C231: 1 | D231: 1200000 | E231: 43855 | F231: 43904 | G231: clos | H231: 44224
A232: M1-01770 | B232: M1 | C232: 1 | D232: 450000 | E232: 43866 | F232: 43894 | G232: clos | H232: 44395
A233: M1-01773 | B233: M1 | C233: 1 | D233: 300000 | E233: 44130 | F233: 44159 | G233: clos | H233: 44546
A234: M1-01777 | B234: M1 | C234: 1 | D234: 600000 | E234: 43970 | F234: 43988 | G234: clos | H234: 44066
A235: M1-01784 | B235: M1 | C235: 1 | D235: 300000 | E235: 44174 | F235: 44213 | G235: clos | H235: 44230
A236: M1-01785 | B236: M1 | C236: 1 | D236: 1200000 | E236: 44131 | F236: 44131 | G236: clos | H236: 44405
A237: M1-01787 | B237: M1 | C237: 1 | D237: 600000 | E237: 44070 | F237: 44097 | G237: clos | H237: 44256
A238: M1-01789 | B238: M1 | C238: 1 | D238: 900000 | E238: 44154 | F238: 44158 | G238: clos | H238: 44173
... A245: M1-01860 | B245: M1 | C245: 1 | D245: 300000 | E245: 44188 | F245: 44218 | G245: clos | H245: 44931
A246: M1-01875 | B246: M1 | C246: 1 | D246: 1200000 | E246: 43847 | F246: 43848 | G246: ouvert
A247: M1-01876 | B247: M1 | C247: 1 | D247: 300000 | E247: 44028 | F247: 44035 | G247: clos | H247: 44044
A248: M1-01878 | B248: M1 | C248: 1 | D248: 900000 | E248: 44187 | F248: 44211 | G248: clos | H248: 44233
A249: M1-01893 | B249: M1 | C249: 1 | D249: 450000 | E249: 44141 | F249: 44156 | G249: clos | H249: 44208
A250: M1-01895 | B250: M1 | C250: 1 | D250: 450000 | E250: 43985 | F250: 43992 | G250: clos | H250: 44163
A251: M1-01897 | B251: M1 | C251: 2 | D251: 4500000 | E251: 43965 | F251: 43985 | G251: clos | H251: 44100
A252: M1-01909 | B252: M1 | C252: 1 | D252: 450000 | E252: 44103 | F252: 44109 | G252: clos | H252: 44117
A253: M1-01919 | B253: M1 | C253: 1 | D253: 600000 | E253: 44203 | F253: 44232 | G253: clos | H253: 44761
A254: M1-01921 | B254: M1 | C254: 1 | D254: 600000 | E254: 44328 | F254: 44332 | G254: clos | H254: 44350
A255: M1-01929 | B255: M1 | C255: 1 | D255: 1200000 | E255: 44242 | F255: 44252 | G255: clos | H255: 44547
A256: M1-01948 | B256: M1 | C256: 1 | D256: 900000 | E256: 44293 | F256: 44306 | G256: clos | H256: 44464
A257: M1-01951 | B257: M1 | C257: 2 | D257: 4500000 | E257: 44324 | F257: 44336 | G257: clos | H257: 44979
A258: M1-01975 | B258: M1 | C258: 3 | D258: 12000000 | E258: 44377 | F258: 44401 | G258: clos | H258: 44436
... A309: M1-02297 | B309: M1 | C309: 2 | D309: 4500000 | E309: 44330 | F309: 44351 | G309: clos | H309: 44364
A310: M1-02298 | B310: M1 | C310: 1 | D310: 300000 | E310: 44440 | F310: 44477 | G310: ouvert
A311: M1-02305 | B311: M1 | C311: 1 | D311: 600000 | E311: 44276 | F311: 44287 | G311: clos | H311: 44293
A312: M1-02311 | B312: M1 | C312: 2 | D312: 4500000 | E312: 44556 | F312: 44580 | G312: clos | H312: 44985
A313: M1-02323 | B313: M1 | C313: 1 | D313: 600000 | E313: 44341 | F313: 44369 | G313: clos | H313: 44584
A314: M1-02335 | B314: M1 | C314: 2 | D314: 4500000 | E314: 44455 | F314: 44469 | G314: clos | H314: 44552
A315: M1-02340 | B315: M1 | C315: 1 | D315: 450000 | E315: 44226 | F315: 44400 | G315: clos | H315: 44520
A316: M1-02342 | B316: M1 | C316: 1 | D316: 600000 | E316: 44346 | F316: 44394 | G316: clos | H316: 44424
A317: M1-02343 | B317: M1 | C317: 1 | D317: 300000 | E317: 44474 | F317: 44481 | G317: clos | H317: 44500
A318: M1-02352 | B318: M1 | C318: 1 | D318: 300000 | E318: 44513 | F318: 44544 | G318: clos | H318: 44585
A319: M1-02354 | B319: M1 | C319: 1 | D319: 1200000 | E319: 44226 | F319: 44264 | G319: clos | H319: 45428
A320: M1-02364 | B320: M1 | C320: 1 | D320: 300000 | E320: 44402 | F320: 44420 | G320: clos | H320: 44811
A321: M1-02369 | B321: M1 | C321: 1 | D321: 1200000 | E321: 44364 | F321: 44368 | G321: clos | H321: 44419
A322: M1-02376 | B322: M1 | C322: 1 | D322: 1200000 | E322: 44835 | F322: 44841 | G322: clos | H322: 44849
... A327: M1-02432 | B327: M1 | C327: 1 | D327: 1200000 | E327: 44676 | F327: 44680 | G327: clos | H327: 45115
A328: M1-02435 | B328: M1 | C328: 1 | D328: 450000 | E328: 44639 | F328: 44739 | G328: ouvert
A329: M1-02440 | B329: M1 | C329: 1 | D329: 300000 | E329: 44610 | F329: 44656 | G329: clos | H329: 44687
A330: M1-02448 | B330: M1 | C330: 2 | D330: 4500000 | E330: 44757 | F330: 44797 | G330: clos | H330: 44926
A331: M1-02456 | B331: M1 | C331: 1 | D331: 300000 | E331: 44905 | F331: 44951 | G331: clos | H331: 45259
A332: M1-02458 | B332: M1 | C332: 1 | D332: 600000 | E332: 44865 | F332: 44884 | G332: clos | H332: 44968
A333: M1-02468 | B333: M1 | C333: 1 | D333: 900000 | E333: 44846 | F333: 44846 | G333: clos | H333: 45472
A334: M1-02469 | B334: M1 | C334: 1 | D334: 450000 | E334: 44693 | F334: 44693 | G334: clos | H334: 44720
A335: M1-02473 | B335: M1 | C335: 1 | D335: 1200000 | E335: 44741 | F335: 44768 | G335: clos | H335: 45048
A336: M1-02476 | B336: M1 | C336: 1 | D336: 900000 | E336: 44726 | F336: 44740 | G336: clos | H336: 44808
A337: M1-02479 | B337: M1 | C337: 4 | D337: 40000000 | E337: 44586 | F337: 44586 | G337: ouvert
A338: M1-02480 | B338: M1 | C338: 1 | D338: 300000 | E338: 44718 | F338: 44718 | G338: clos | H338: 44926
A339: M1-02489 | B339: M1 | C339: 1 | D339: 600000 | E339: 44925 | F339: 44984 | G339: clos | H339: 45013
A340: M1-02505 | B340: M1 | C340: 2 | D340: 4500000 | E340: 44641 | F340: 44665 | G340: clos | H340: 44690
A341: M1-02513 | B341: M1 | C341: 1 | D341: 900000 | E341: 44883 | F341: 45511 | G341: clos | H341: 45710
A342: M1-02517 | B342: M1 | C342: 1 | D342: 300000 | E342: 44702 | F342: 44731 | G342: clos | H342: 45564
A343: M1-02520 | B343: M1 | C343: 1 | D343: 900000 | E343: 44568 | F343: 44571 | G343: clos | H343: 44638
A344: M1-02528 | B344: M1 | C344: 2 | D344: 4500000 | E344: 44871 | F344: 44880 | G344: clos | H344: 44909
A345: M1-02531 | B345: M1 | C345: 2 | D345: 4500000 | E345: 44870 | F345: 44875 | G345: clos | H345: 44894
A346: M1-02539 | B346: M1 | C346: 1 | D346: 900000 | E346: 44669 | F346: 44713 | G346: clos | H346: 44747
A347: M1-02542 | B347: M1 | C347: 1 | D347: 600000 | E347: 44590 | F347: 44596 | G347: clos | H347: 45008
A348: M1-02544 | B348: M1 | C348: 1 | D348: 450000 | E348: 44627 | F348: 44639 | G348: clos | H348: 44696
A349: M1-02548 | B349: M1 | C349: 1 | D349: 450000 | E349: 44576 | F349: 44896 | G349: clos | H349: 45390
... A385: M1-02824 | B385: M1 | C385: 1 | D385: 450000 | E385: 45129 | F385: 45150 | G385: clos | H385: 45322
A386: M1-02825 | B386: M1 | C386: 1 | D386: 900000 | E386: 45181 | F386: 45184 | G386: ouvert
A387: M1-02830 | B387: M1 | C387: 1 | D387: 450000 | E387: 44970 | F387: 44986 | G387: clos | H387: 45271
A388: M1-02834 | B388: M1 | C388: 1 | D388: 1200000 | E388: 45281 | F388: 45289 | G388: clos | H388: 45858
A389: M1-02856 | B389: M1 | C389: 1 | D389: 1200000 | E389: 44935 | F389: 44952 | G389: clos | H389: 45124
A390: M1-02857 | B390: M1 | C390: 1 | D390: 450000 | E390: 45191 | F390: 45207 | G390: clos | H390: 45239
A391: M1-02859 | B391: M1 | C391: 1 | D391: 600000 | E391: 45057 | F391: 45060 | G391: clos | H391: 45566
A392: M1-02875 | B392: M1 | C392: 1 | D392: 900000 | E392: 45144 | F392: 45427 | G392: clos | H392: 45662
A393: M1-02876 | B393: M1 | C393: 1 | D393: 450000 | E393: 45071 | F393: 45071 | G393: clos | H393: 45335
A394: M1-02882 | B394: M1 | C394: 1 | D394: 900000 | E394: 45090 | F394: 45093 | G394: clos | H394: 45333
A395: M1-02906 | B395: M1 | C395: 1 | D395: 1200000 | E395: 45017 | F395: 45037 | G395: clos | H395: 45137
A396: M1-02912 | B396: M1 | C396: 1 | D396: 450000 | E396: 45212 | F396: 45257 | G396: clos | H396: 45302
A397: M1-02913 | B397: M1 | C397: 1 | D397: 300000 | E397: 44980 | F397: 44980 | G397: clos | H397: 45011
A398: M1-02925 | B398: M1 | C398: 1 | D398: 900000 | E398: 44987 | F398: 45016 | G398: ouvert
A399: M1-02968 | B399: M1 | C399: 2 | D399: 4500000 | E399: 45122 | F399: 45131 | G399: clos | H399: 45176
A400: M1-02970 | B400: M1 | C400: 2 | D400: 4500000 | E400: 45230 | F400: 45426 | G400: clos | H400: 45442
A401: M1-02974 | B401: M1 | C401: 1 | D401: 300000 | E401: 45031 | F401: 45060 | G401: clos | H401: 45077
A402: M1-02983 | B402: M1 | C402: 1 | D402: 900000 | E402: 45267 | F402: 45302 | G402: ouvert
A403: M1-02987 | B403: M1 | C403: 1 | D403: 450000 | E403: 44978 | F403: 44983 | G403: clos | H403: 45010
A404: M1-03003 | B404: M1 | C404: 1 | D404: 450000 | E404: 45140 | F404: 45190 | G404: clos | H404: 45250
A405: M1-03011 | B405: M1 | C405: 1 | D405: 900000 | E405: 45012 | F405: 45016 | G405: clos | H405: 45383
A406: M1-03016 | B406: M1 | C406: 1 | D406: 900000 | E406: 45000 | F406: 45038 | G406: clos | H406: 45063
...

Sheet Règlements
A1: id_reglement | B1: id_sinistre | C1: date_reglement | D1: montant | E1: nature | F1: annee_survenance | G1: annee_reglement | H1: developpement
A2: R000018 | B2: M1-00011 | C2: 42668 | D2: 3640 | E2: indemnité | F2: =YEAR(INDEX(Sinistres!$E$2:$E$1030,MATCH(B2,Sinistres!$A$2:$A$1030,0))) -> 2016 | G2: =YEAR(C2) -> 2016 | H2: =G2-F2+1 -> 1
A3: R000027 | B3: M1-00017 | C3: 42526 | D3: 4744 | E3: indemnité | F3: =YEAR(INDEX(Sinistres!$E$2:$E$1030,MATCH(B3,Sinistres!$A$2:$A$1030,0))) -> 2016 | G3: =YEAR(C3) -> 2016 | H3: =G3-F3+1 -> 1
A4: R000028 | B4: M1-00018 | C4: 42573 | D4: 7824 | E4: indemnité | F4: =YEAR(INDEX(Sinistres!$E$2:$E$1030,MATCH(B4,Sinistres!$A$2:$A$1030,0))) -> 2016 | G4: =YEAR(C4) -> 2016 | H4: =G4-F4+1 -> 1
A5: R000040 | B5: M1-00024 | C5: 42824 | D5: 26549 | E5: indemnité | F5: =YEAR(INDEX(Sinistres!$E$2:$E$1030,MATCH(B5,Sinistres!$A$2:$A$1030,0))) -> 2016 | G5: =YEAR(C5) -> 2017 | H5: =G5-F5+1 -> 2
A6: R000041 | B6: M1-00024 | C6: 43110 | D6: 22237 | E6: indemnité | F6: =YEAR(INDEX(Sinistres!$E$2:$E$1030,MATCH(B6,Sinistres!$A$2:$A$1030,0))) -> 2016 | G6: =YEAR(C6) -> 2018 | H6: =G6-F6+1 -> 3
A7: R000061 | B7: M1-00034 | C7: 42699 | D7: 11841 | E7: indemnité | F7: =YEAR(INDEX(Sinistres!$E$2:$E$1030,MATCH(B7,Sinistres!$A$2:$A$1030,0))) -> 2016 | G7: =YEAR(C7) -> 2016 | H7: =G7-F7+1 -> 1
A8: R000063 | B8: M1-00036 | C8: 42777 | D8: 315 | E8: indemnité | F8: =YEAR(INDEX(Sinistres!$E$2:$E$1030,MATCH(B8,Sinistres!$A$2:$A$1030,0))) -> 2016 | G8: =YEAR(C8) -> 2017 | H8: =G8-F8+1 -> 2
A9: R000064 | B9: M1-00036 | C9: 42803 | D9: 1210 | E9: indemnité | F9: =YEAR(INDEX(Sinistres!$E$2:$E$1030,MATCH(B9,Sinistres!$A$2:$A$1030,0))) -> 2016 | G9: =YEAR(C9) -> 2017 | H9: =G9-F9+1 -> 2
A10: R000077 | B10: M1-00042 | C10: 42719 | D10: 8820 | E10: indemnité | F10: =YEAR(INDEX(Sinistres!$E$2:$E$1030,MATCH(B10,Sinistres!$A$2:$A$1030,0))) -> 2016 | G10: =YEAR(C10) -> 2016 | H10: =G10-F10+1 -> 1
A11: R000078 | B11: M1-00042 | C11: 42871 | D11: 4956 | E11: indemnité | F11: =YEAR(INDEX(Sinistres!$E$2:$E$1030,MATCH(B11,Sinistres!$A$2:$A$1030,0))) -> 2016 | G11: =YEAR(C11) -> 2017 | H11: =G11-F11+1 -> 2
A12: R000079 | B12: M1-00042 | C12: 43183 | D12: 10062 | E12: indemnité | F12: =YEAR(INDEX(Sinistres!$E$2:$E$1030,MATCH(B12,Sinistres!$A$2:$A$1030,0))) -> 2016 | G12: =YEAR(C12) -> 2018 | H12: =G12-F12+1 -> 3
A13: R000111 | B13: M1-00063 | C13: 42774 | D13: 6056 | E13: indemnité | F13: =YEAR(INDEX(Sinistres!$E$2:$E$1030,MATCH(B13,Sinistres!$A$2:$A$1030,0))) -> 2016 | G13: =YEAR(C13) -> 2017 | H13: =G13-F13+1 -> 2
... A1707: R012833 | B1707: M2-03434 | C1707: 45832 | D1707: 13447 | E1707: indemnité | F1707: =YEAR(INDEX(Sinistres!$E$2:$E$1030,MATCH(B1707,Sinistres!$A$2:$A$1030,0))) -> 2025 | G1707: =YEAR(C1707) -> 2025 | H1707: =G1707-F1707+1 -> 1

Sheet Triangle
A1: Règlements incrémentaux, en euros
A2: Survenance | B2: Dév. 1 | C2: Dév. 2 | D2: Dév. 3 | E2: Dév. 4 | F2: Dév. 5 | G2: Dév. 6 | H2: Dév. 7 | I2: Dév. 8 | J2: Dév. 9 | K2: Dév. 10
A3: 2016 | B3: =SUMIFS(Règlements!$D$2:$D$1707,Règlements!$F$2:$F$1707,$A3,Règlements!$H$2:$H$1707,1) -> 967038 | C3: =SUMIFS(Règlements!$D$2:$D$1707,Règlements!$F$2:$F$1707,$A3,Règlements!$H$2:$H$1707,2) -> 1356616 | D3: =SUMIFS(Règlements!$D$2:$D$1707,Règlements!$F$2:$F$1707,$A3,Règlements!$H$2:$H$1707,3) -> 438676 | E3: =SUMIFS(Règlements!$D$2:$D$1707,Règlements!$F$2:$F$1707,$A3,Règlements!$H$2:$H$1707,4) -> 71143 | F3: =SUMIFS(Règlements!$D$2:$D$1707,Règlements!$F$2:$F$1707,$A3,Règlements!$H$2:$H$1707,5) -> 0 | G3: =SUMIFS(Règlements!$D$2:$D$1707,Règlements!$F$2:$F$1707,$A3,Règlements!$H$2:$H$1707,6) -> -56112 | H3: =SUMIFS(Règlements!$D$2:$D$1707,Règlements!$F$2:$F$1707,$A3,Règlements!$H$2:$H$1707,7) -> 0 | I3: =SUMIFS(Règlements!$D$2:$D$1707,Règlements!$F$2:$F$1707,$A3,Règlements!$H$2:$H$1707,8) -> 0 | J3: =SUMIFS(Règlements!$D$2:$D$1707,Règlements!$F$2:$F$1707,$A3,Règlements!$H$2:$H$1707,9) -> 0 | K3: =SUMIFS(Règlements!$D$2:$D$1707,Règlements!$F$2:$F$1707,$A3,Règlements!$H$2:$H$1707,10) -> 0
A4: 2017 | B4: =SUMIFS(Règlements!$D$2:$D$1707,Règlements!$F$2:$F$1707,$A4,Règlements!$H$2:$H$1707,1) -> 978212 | C4: =SUMIFS(Règlements!$D$2:$D$1707,Règlements!$F$2:$F$1707,$A4,Règlements!$H$2:$H$1707,2) -> 1334952 | D4: =SUMIFS(Règlements!$D$2:$D$1707,Règlements!$F$2:$F$1707,$A4,Règlements!$H$2:$H$1707,3) -> 1180767 | E4: =SUMIFS(Règlements!$D$2:$D$1707,Règlements!$F$2:$F$1707,$A4,Règlements!$H$2:$H$1707,4) -> 616859 | F4: =SUMIFS(Règlements!$D$2:$D$1707,Règlements!$F$2:$F$1707,$A4,Règlements!$H$2:$H$1707,5) -> 84886 | G4: =SUMIFS(Règlements!$D$2:$D$1707,Règlements!$F$2:$F$1707,$A4,Règlements!$H$2:$H$1707,6) -> 112401 | H4: =SUMIFS(Règlements!$D$2:$D$1707,Règlements!$F$2:$F$1707,$A4,Règlements!$H$2:$H$1707,7) -> 0 | I4: =SUMIFS(Règlements!$D$2:$D$1707,Règlements!$F$2:$F$1707,$A4,Règlements!$H$2:$H$1707,8) -> 0 | J4: =SUMIFS(Règlements!$D$2:$D$1707,Règlements!$F$2:$F$1707,$A4,Règlements!$H$2:$H$1707,9) -> 0
A5: 2018 | B5: =SUMIFS(Règlements!$D$2:$D$1707,Règlements!$F$2:$F$1707,$A5,Règlements!$H$2:$H$1707,1) -> 1258681 | C5: =SUMIFS(Règlements!$D$2:$D$1707,Règlements!$F$2:$F$1707,$A5,Règlements!$H$2:$H$1707,2) -> 1913453 | D5: =SUMIFS(Règlements!$D$2:$D$1707,Règlements!$F$2:$F$1707,$A5,Règlements!$H$2:$H$1707,3) -> 1101015 | E5: =SUMIFS(Règlements!$D$2:$D$1707,Règlements!$F$2:$F$1707,$A5,Règlements!$H$2:$H$1707,4) -> 526453 | F5: =SUMIFS(Règlements!$D$2:$D$1707,Règlements!$F$2:$F$1707,$A5,Règlements!$H$2:$H$1707,5) -> 270984 | G5: =SUMIFS(Règlements!$D$2:$D$1707,Règlements!$F$2:$F$1707,$A5,Règlements!$H$2:$H$1707,6) -> -46741 | H5: =SUMIFS(Règlements!$D$2:$D$1707,Règlements!$F$2:$F$1707,$A5,Règlements!$H$2:$H$1707,7) -> 157441 | I5: =SUMIFS(Règlements!$D$2:$D$1707,Règlements!$F$2:$F$1707,$A5,Règlements!$H$2:$H$1707,8) -> 40858
A6: 2019 | B6: =SUMIFS(Règlements!$D$2:$D$1707,Règlements!$F$2:$F$1707,$A6,Règlements!$H$2:$H$1707,1) -> 1270575 | C6: =SUMIFS(Règlements!$D$2:$D$1707,Règlements!$F$2:$F$1707,$A6,Règlements!$H$2:$H$1707,2) -> 2136209 | D6: =SUMIFS(Règlements!$D$2:$D$1707,Règlements!$F$2:$F$1707,$A6,Règlements!$H$2:$H$1707,3) -> 179407 | E6: =SUMIFS(Règlements!$D$2:$D$1707,Règlements!$F$2:$F$1707,$A6,Règlements!$H$2:$H$1707,4) -> 15734 | F6: =SUMIFS(Règlements!$D$2:$D$1707,Règlements!$F$2:$F$1707,$A6,Règlements!$H$2:$H$1707,5) -> 0 | G6: =SUMIFS(Règlements!$D$2:$D$1707,Règlements!$F$2:$F$1707,$A6,Règlements!$H$2:$H$1707,6) -> 6560 | H6: =SUMIFS(Règlements!$D$2:$D$1707,Règlements!$F$2:$F$1707,$A6,Règlements!$H$2:$H$1707,7) -> 0
A7: 2020 | B7: =SUMIFS(Règlements!$D$2:$D$1707,Règlements!$F$2:$F$1707,$A7,Règlements!$H$2:$H$1707,1) -> 1269676 | C7: =SUMIFS(Règlements!$D$2:$D$1707,Règlements!$F$2:$F$1707,$A7,Règlements!$H$2:$H$1707,2) -> 1703755 | D7: =SUMIFS(Règlements!$D$2:$D$1707,Règlements!$F$2:$F$1707,$A7,Règlements!$H$2:$H$1707,3) -> 502641 | E7: =SUMIFS(Règlements!$D$2:$D$1707,Règlements!$F$2:$F$1707,$A7,Règlements!$H$2:$H$1707,4) -> 760110 | F7: =SUMIFS(Règlements!$D$2:$D$1707,Règlements!$F$2:$F$1707,$A7,Règlements!$H$2:$H$1707,5) -> 549488 | G7: =SUMIFS(Règlements!$D$2:$D$1707,Règlements!$F$2:$F$1707,$A7,Règlements!$H$2:$H$1707,6) -> 455062
A8: 2021 | B8: =SUMIFS(Règlements!$D$2:$D$1707,Règlements!$F$2:$F$1707,$A8,Règlements!$H$2:$H$1707,1) -> 1579240 | C8: =SUMIFS(Règlements!$D$2:$D$1707,Règlements!$F$2:$F$1707,$A8,Règlements!$H$2:$H$1707,2) -> 2034028 | D8: =SUMIFS(Règlements!$D$2:$D$1707,Règlements!$F$2:$F$1707,$A8,Règlements!$H$2:$H$1707,3) -> 818470 | E8: =SUMIFS(Règlements!$D$2:$D$1707,Règlements!$F$2:$F$1707,$A8,Règlements!$H$2:$H$1707,4) -> 335373 | F8: =SUMIFS(Règlements!$D$2:$D$1707,Règlements!$F$2:$F$1707,$A8,Règlements!$H$2:$H$1707,5) -> -13669
A9: 2022 | B9: =SUMIFS(Règlements!$D$2:$D$1707,Règlements!$F$2:$F$1707,$A9,Règlements!$H$2:$H$1707,1) -> 1569054 | C9: =SUMIFS(Règlements!$D$2:$D$1707,Règlements!$F$2:$F$1707,$A9,Règlements!$H$2:$H$1707,2) -> 2081727 | D9: =SUMIFS(Règlements!$D$2:$D$1707,Règlements!$F$2:$F$1707,$A9,Règlements!$H$2:$H$1707,3) -> 660617 | E9: =SUMIFS(Règlements!$D$2:$D$1707,Règlements!$F$2:$F$1707,$A9,Règlements!$H$2:$H$1707,4) -> 146935
A10: 2023 | B10: =SUMIFS(Règlements!$D$2:$D$1707,Règlements!$F$2:$F$1707,$A10,Règlements!$H$2:$H$1707,1) -> 2576514 | C10: =SUMIFS(Règlements!$D$2:$D$1707,Règlements!$F$2:$F$1707,$A10,Règlements!$H$2:$H$1707,2) -> 3407319 | D10: =SUMIFS(Règlements!$D$2:$D$1707,Règlements!$F$2:$F$1707,$A10,Règlements!$H$2:$H$1707,3) -> 1656288
A11: 2024 | B11: =SUMIFS(Règlements!$D$2:$D$1707,Règlements!$F$2:$F$1707,$A11,Règlements!$H$2:$H$1707,1) -> 1406525 | C11: =SUMIFS(Règlements!$D$2:$D$1707,Règlements!$F$2:$F$1707,$A11,Règlements!$H$2:$H$1707,2) -> 2811342
A12: 2025 | B12: =SUMIFS(Règlements!$D$2:$D$1707,Règlements!$F$2:$F$1707,$A12,Règlements!$H$2:$H$1707,1) -> 2165294
A14: Règlements cumulés, en euros
A15: Survenance | B15: Dév. 1 | C15: Dév. 2 | D15: Dév. 3 | E15: Dév. 4 | F15: Dév. 5 | G15: Dév. 6 | H15: Dév. 7 | I15: Dév. 8 | J15: Dév. 9 | K15: Dév. 10
A16: 2016 | B16: =B3 -> 967038 | C16: =B16+C3 -> 2323654 | D16: =C16+D3 -> 2762330 | E16: =D16+E3 -> 2833473 | F16: =E16+F3 -> 2833473 | G16: =F16+G3 -> 2777361 | H16: =G16+H3 -> 2777361 | I16: =H16+I3 -> 2777361 | J16: =I16+J3 -> 2777361 | K16: =J16+K3 -> 2777361
A17: 2017 | B17: =B4 -> 978212 | C17: =B17+C4 -> 2313164 | D17: =C17+D4 -> 3493931 | E17: =D17+E4 -> 4110790 | F17: =E17+F4 -> 4195676 | G17: =F17+G4 -> 4308077 | H17: =G17+H4 -> 4308077 | I17: =H17+I4 -> 4308077 | J17: =I17+J4 -> 4308077
A18: 2018 | B18: =B5 -> 1258681 | C18: =B18+C5 -> 3172134 | D18: =C18+D5 -> 4273149 | E18: =D18+E5 -> 4799602 | F18: =E18+F5 -> 5070586 | G18: =F18+G5 -> 5023845 | H18: =G18+H5 -> 5181286 | I18: =H18+I5 -> 5222144
A19: 2019 | B19: =B6 -> 1270575 | C19: =B19+C6 -> 3406784 | D19: =C19+D6 -> 3586191 | E19: =D19+E6 -> 3601925 | F19: =E19+F6 -> 3601925 | G19: =F19+G6 -> 3608485 | H19: =G19+H6 -> 3608485
A20: 2020 | B20: =B7 -> 1269676 | C20: =B20+C7 -> 2973431 | D20: =C20+D7 -> 3476072 | E20: =D20+E7 -> 4236182 | F20: =E20+F7 -> 4785670 | G20: =F20+G7 -> 5240732
A21: 2021 | B21: =B8 -> 1579240 | C21: =B21+C8 -> 3613268 | D21: =C21+D8 -> 4431738 | E21: =D21+E8 -> 4767111 | F21: =E21+F8 -> 4753442
A22: 2022 | B22: =B9 -> 1569054 | C22: =B22+C9 -> 3650781 | D22: =C22+D9 -> 4311398 | E22: =D22+E9 -> 4458333
A23: 2023 | B23: =B10 -> 2576514 | C23: =B23+C10 -> 5983833 | D23: =C23+D10 -> 7640121
A24: 2024 | B24: =B11 -> 1406525 | C24: =B24+C11 -> 4217867
A25: 2025 | B25: =B12 -> 2165294

Sheet Chain Ladder
A1: Facteurs de développement pondérés : somme de la colonne suivante / somme de la colonne, sur les mêmes années
A2: Passage | B2: 1 → 2 | C2: 2 → 3 | D2: 3 → 4 | E2: 4 → 5 | F2: 5 → 6 | G2: 6 → 7 | H2: 7 → 8 | I2: 8 → 9 | J2: 9 → 10
A3: Facteur f | B3: =SUM(Triangle!C16:C24)/SUM(Triangle!B16:B24) -> 2.4585359 | C3: =SUM(Triangle!D16:D23)/SUM(Triangle!C16:C23) -> 1.2382866 | D3: =SUM(Triangle!E16:E22)/SUM(Triangle!D16:D22) -> 1.0938912 | E3: =SUM(Triangle!F16:F21)/SUM(Triangle!E16:E21) -> 1.0366211 | F3: =SUM(Triangle!G16:G20)/SUM(Triangle!F16:F20) -> 1.0229981 | G3: =SUM(Triangle!H16:H19)/SUM(Triangle!G16:G19) -> 1.0100168 | H3: =SUM(Triangle!I16:I18)/SUM(Triangle!H16:H18) -> 1.0033308 | I3: =SUM(Triangle!J16:J17)/SUM(Triangle!I16:I17) -> 1 | J3: =SUM(Triangle!K16:K16)/SUM(Triangle!J16:J16) -> 1
A4: Facteur cumulé jusqu'à l'ultime | B4: =PRODUCT(B3:$J$3) -> 3.5788166 | C4: =PRODUCT(C3:$J$3) -> 1.4556698 | D4: =PRODUCT(D3:$J$3) -> 1.1755516 | E4: =PRODUCT(E3:$J$3) -> 1.0746513 | F4: =PRODUCT(F3:$J$3) -> 1.0366868 | G4: =PRODUCT(G3:$J$3) -> 1.0133809 | H4: =PRODUCT(H3:$J$3) -> 1.0033308 | I4: =PRODUCT(I3:$J$3) -> 1 | J4: =PRODUCT(J3:$J$3) -> 1
A6: Survenance | B6: Dernier cumul connu | C6: Développement atteint | D6: Facteur jusqu'à l'ultime | E6: Charge ultime | F6: Provision
A7: 2016 | B7: =INDEX(Triangle!$B$16:$K$16,1,C7) -> 2777361 | C7: 10 | D7: =1 -> 1 | E7: =B7*D7 -> 2777361 | F7: =E7-B7 -> 0
A8: 2017 | B8: =INDEX(Triangle!$B$17:$K$17,1,C8) -> 4308077 | C8: 9 | D8: =INDEX($B$4:$J$4,1,C8) -> 1 | E8: =B8*D8 -> 4308077 | F8: =E8-B8 -> 0
A9: 2018 | B9: =INDEX(Triangle!$B$18:$K$18,1,C9) -> 5222144 | C9: 8 | D9: =INDEX($B$4:$J$4,1,C9) -> 1 | E9: =B9*D9 -> 5222144 | F9: =E9-B9 -> 0
A10: 2019 | B10: =INDEX(Triangle!$B$19:$K$19,1,C10) -> 3608485 | C10: 7 | D10: =INDEX($B$4:$J$4,1,C10) -> 1.0033308 | E10: =B10*D10 -> 3620504.1 | F10: =E10-B10 -> 12019.141
A11: 2020 | B11: =INDEX(Triangle!$B$20:$K$20,1,C11) -> 5240732 | C11: 6 | D11: =INDEX($B$4:$J$4,1,C11) -> 1.0133809 | E11: =B11*D11 -> 5310857.8 | F11: =E11-B11 -> 70125.797
A12: 2021 | B12: =INDEX(Triangle!$B$21:$K$21,1,C12) -> 4753442 | C12: 5 | D12: =INDEX($B$4:$J$4,1,C12) -> 1.0366868 | E12: =B12*D12 -> 4927830.4 | F12: =E12-B12 -> 174388.43
A13: 2022 | B13: =INDEX(Triangle!$B$22:$K$22,1,C13) -> 4458333 | C13: 4 | D13: =INDEX($B$4:$J$4,1,C13) -> 1.0746513 | E13: =B13*D13 -> 4791153.5 | F13: =E13-B13 -> 332820.48
A14: 2023 | B14: =INDEX(Triangle!$B$23:$K$23,1,C14) -> 7640121 | C14: 3 | D14: =INDEX($B$4:$J$4,1,C14) -> 1.1755516 | E14: =B14*D14 -> 8981356.8 | F14: =E14-B14 -> 1341235.8
A15: 2024 | B15: =INDEX(Triangle!$B$24:$K$24,1,C15) -> 4217867 | C15: 2 | D15: =INDEX($B$4:$J$4,1,C15) -> 1.4556698 | E15: =B15*D15 -> 6139821.8 | F15: =E15-B15 -> 1921954.8
A16: 2025 | B16: =INDEX(Triangle!$B$25:$K$25,1,C16) -> 2165294 | C16: 1 | D16: =INDEX($B$4:$J$4,1,C16) -> 3.5788166 | E16: =B16*D16 -> 7749190 | F16: =E16-B16 -> 5583896
A17: Total | B17: =SUM(B7:B16) -> 44391856 | E17: =SUM(E7:E16) -> 53828296 | F17: =SUM(F7:F16) -> 9436440.4

Sheet Contrôles
A1: Contrôle | B1: Valeur | C1: Attendu | D1: État
A2: Somme des règlements de l'extraction (€) | B2: =SUM(Règlements!D2:D1707) -> 44391856 | C2: =B3 -> 44391856 | D2: =IF(ABS(B2-C2)<0.5,"OK","À VOIR") -> OK
A3: Somme de la dernière diagonale du triangle cumulé (€) | B3: =SUM('Chain Ladder'!B7:B16) -> 44391856 | C3: =B2 -> 44391856 | D3: =IF(ABS(B3-C3)<0.5,"OK","À VOIR") -> OK
A4: Nombre de règlements rangés dans le triangle | B4: =SUMPRODUCT((Règlements!H2:H1707>=1)*(Règlements!H2:H1707<=10)*(Règlements!F2:F1707>=2016)) -> 1706 | C4: =COUNTA(Règlements!A2:A1707) -> 1706 | D4: =IF(ABS(B4-C4)<0.5,"OK","À VOIR") -> OK
A5: Aucun règlement avant la survenance (développement < 1) | B5: =COUNTIF(Règlements!H2:H1707,"<1") -> 0 | C5: =0 -> 0 | D5: =IF(ABS(B5-C5)<0.5,"OK","À VOIR") -> OK
A6: Provision totale = charge ultime totale − déjà réglé (€) | B6: ='Chain Ladder'!F17 -> 9436440.4 | C6: ='Chain Ladder'!E17-'Chain Ladder'!B17 -> 9436440.4 | D6: =IF(ABS(B6-C6)<0.5,"OK","À VOIR") -> OK
